BEGIN:VCALENDAR
VERSION:2.0
PRODID:-//Chancellor Institute - ECPv6.15.18//NONSGML v1.0//EN
CALSCALE:GREGORIAN
METHOD:PUBLISH
X-ORIGINAL-URL:https://chancellor.education
X-WR-CALDESC:Events for Chancellor Institute
REFRESH-INTERVAL;VALUE=DURATION:PT1H
X-Robots-Tag:noindex
X-PUBLISHED-TTL:PT1H
BEGIN:VTIMEZONE
TZID:Australia/Sydney
BEGIN:STANDARD
TZOFFSETFROM:+1100
TZOFFSETTO:+1000
TZNAME:AEST
DTSTART:20250405T160000
END:STANDARD
BEGIN:DAYLIGHT
TZOFFSETFROM:+1000
TZOFFSETTO:+1100
TZNAME:AEDT
DTSTART:20251004T160000
END:DAYLIGHT
BEGIN:STANDARD
TZOFFSETFROM:+1100
TZOFFSETTO:+1000
TZNAME:AEST
DTSTART:20260404T160000
END:STANDARD
BEGIN:DAYLIGHT
TZOFFSETFROM:+1000
TZOFFSETTO:+1100
TZNAME:AEDT
DTSTART:20261003T160000
END:DAYLIGHT
BEGIN:STANDARD
TZOFFSETFROM:+1100
TZOFFSETTO:+1000
TZNAME:AEST
DTSTART:20270403T160000
END:STANDARD
BEGIN:DAYLIGHT
TZOFFSETFROM:+1000
TZOFFSETTO:+1100
TZNAME:AEDT
DTSTART:20271002T160000
END:DAYLIGHT
BEGIN:STANDARD
TZOFFSETFROM:+1100
TZOFFSETTO:+1000
TZNAME:AEST
DTSTART:20280401T160000
END:STANDARD
BEGIN:DAYLIGHT
TZOFFSETFROM:+1000
TZOFFSETTO:+1100
TZNAME:AEDT
DTSTART:20280930T160000
END:DAYLIGHT
END:VTIMEZONE
BEGIN:VEVENT
DTSTART;TZID=Australia/Sydney:20260504T093000
DTEND;TZID=Australia/Sydney:20260504T113000
DTSTAMP:20260422T190138
CREATED:20221213T014820Z
LAST-MODIFIED:20250204T033558Z
UID:10002443-1777887000-1777894200@chancellor.education
SUMMARY:Golf Driving Range
DESCRIPTION:Join staff and students each fortnight at Kincumber Driving Range.\n\nPriced from just $10 per 40 balls
URL:https://chancellor.education/event/golf-driving-range/2026-05-04/
LOCATION:2 Bilinga Rd\, Kincumber NSW 2251\, 2 Bilinga Rd\,\, Kincumber\, NSW\, 2251\, Australia
CATEGORIES:sports
ATTACH;FMTTYPE=image/jpeg:https://chancellor.education/wp-content/uploads/2022/12/courtney-cook-SsIIw_MET0E-unsplash.jpg
END:VEVENT
BEGIN:VEVENT
DTSTART;TZID=Australia/Sydney:20260518T093000
DTEND;TZID=Australia/Sydney:20260518T113000
DTSTAMP:20260422T190138
CREATED:20221213T014820Z
LAST-MODIFIED:20250204T033558Z
UID:10002444-1779096600-1779103800@chancellor.education
SUMMARY:Golf Driving Range
DESCRIPTION:Join staff and students each fortnight at Kincumber Driving Range.\n\nPriced from just $10 per 40 balls
URL:https://chancellor.education/event/golf-driving-range/2026-05-18/
LOCATION:2 Bilinga Rd\, Kincumber NSW 2251\, 2 Bilinga Rd\,\, Kincumber\, NSW\, 2251\, Australia
CATEGORIES:sports
ATTACH;FMTTYPE=image/jpeg:https://chancellor.education/wp-content/uploads/2022/12/courtney-cook-SsIIw_MET0E-unsplash.jpg
END:VEVENT
BEGIN:VEVENT
DTSTART;TZID=Australia/Sydney:20260601T093000
DTEND;TZID=Australia/Sydney:20260601T113000
DTSTAMP:20260422T190138
CREATED:20221213T014820Z
LAST-MODIFIED:20250204T033558Z
UID:10002445-1780306200-1780313400@chancellor.education
SUMMARY:Golf Driving Range
DESCRIPTION:Join staff and students each fortnight at Kincumber Driving Range.\n\nPriced from just $10 per 40 balls
URL:https://chancellor.education/event/golf-driving-range/2026-06-01/
LOCATION:2 Bilinga Rd\, Kincumber NSW 2251\, 2 Bilinga Rd\,\, Kincumber\, NSW\, 2251\, Australia
CATEGORIES:sports
ATTACH;FMTTYPE=image/jpeg:https://chancellor.education/wp-content/uploads/2022/12/courtney-cook-SsIIw_MET0E-unsplash.jpg
END:VEVENT
BEGIN:VEVENT
DTSTART;TZID=Australia/Sydney:20260615T093000
DTEND;TZID=Australia/Sydney:20260615T113000
DTSTAMP:20260422T190138
CREATED:20221213T014820Z
LAST-MODIFIED:20250204T033558Z
UID:10002446-1781515800-1781523000@chancellor.education
SUMMARY:Golf Driving Range
DESCRIPTION:Join staff and students each fortnight at Kincumber Driving Range.\n\nPriced from just $10 per 40 balls
URL:https://chancellor.education/event/golf-driving-range/2026-06-15/
LOCATION:2 Bilinga Rd\, Kincumber NSW 2251\, 2 Bilinga Rd\,\, Kincumber\, NSW\, 2251\, Australia
CATEGORIES:sports
ATTACH;FMTTYPE=image/jpeg:https://chancellor.education/wp-content/uploads/2022/12/courtney-cook-SsIIw_MET0E-unsplash.jpg
END:VEVENT
BEGIN:VEVENT
DTSTART;TZID=Australia/Sydney:20260629T093000
DTEND;TZID=Australia/Sydney:20260629T113000
DTSTAMP:20260422T190138
CREATED:20221213T014820Z
LAST-MODIFIED:20250204T033558Z
UID:10002447-1782725400-1782732600@chancellor.education
SUMMARY:Golf Driving Range
DESCRIPTION:Join staff and students each fortnight at Kincumber Driving Range.\n\nPriced from just $10 per 40 balls
URL:https://chancellor.education/event/golf-driving-range/2026-06-29/
LOCATION:2 Bilinga Rd\, Kincumber NSW 2251\, 2 Bilinga Rd\,\, Kincumber\, NSW\, 2251\, Australia
CATEGORIES:sports
ATTACH;FMTTYPE=image/jpeg:https://chancellor.education/wp-content/uploads/2022/12/courtney-cook-SsIIw_MET0E-unsplash.jpg
END:VEVENT
BEGIN:VEVENT
DTSTART;TZID=Australia/Sydney:20260713T093000
DTEND;TZID=Australia/Sydney:20260713T113000
DTSTAMP:20260422T190138
CREATED:20221213T014820Z
LAST-MODIFIED:20250204T033558Z
UID:10002448-1783935000-1783942200@chancellor.education
SUMMARY:Golf Driving Range
DESCRIPTION:Join staff and students each fortnight at Kincumber Driving Range.\n\nPriced from just $10 per 40 balls
URL:https://chancellor.education/event/golf-driving-range/2026-07-13/
LOCATION:2 Bilinga Rd\, Kincumber NSW 2251\, 2 Bilinga Rd\,\, Kincumber\, NSW\, 2251\, Australia
CATEGORIES:sports
ATTACH;FMTTYPE=image/jpeg:https://chancellor.education/wp-content/uploads/2022/12/courtney-cook-SsIIw_MET0E-unsplash.jpg
END:VEVENT
BEGIN:VEVENT
DTSTART;TZID=Australia/Sydney:20260727T093000
DTEND;TZID=Australia/Sydney:20260727T113000
DTSTAMP:20260422T190138
CREATED:20221213T014820Z
LAST-MODIFIED:20250204T033558Z
UID:10002449-1785144600-1785151800@chancellor.education
SUMMARY:Golf Driving Range
DESCRIPTION:Join staff and students each fortnight at Kincumber Driving Range.\n\nPriced from just $10 per 40 balls
URL:https://chancellor.education/event/golf-driving-range/2026-07-27/
LOCATION:2 Bilinga Rd\, Kincumber NSW 2251\, 2 Bilinga Rd\,\, Kincumber\, NSW\, 2251\, Australia
CATEGORIES:sports
ATTACH;FMTTYPE=image/jpeg:https://chancellor.education/wp-content/uploads/2022/12/courtney-cook-SsIIw_MET0E-unsplash.jpg
END:VEVENT
BEGIN:VEVENT
DTSTART;TZID=Australia/Sydney:20260810T093000
DTEND;TZID=Australia/Sydney:20260810T113000
DTSTAMP:20260422T190138
CREATED:20221213T014820Z
LAST-MODIFIED:20250204T033558Z
UID:10002450-1786354200-1786361400@chancellor.education
SUMMARY:Golf Driving Range
DESCRIPTION:Join staff and students each fortnight at Kincumber Driving Range.\n\nPriced from just $10 per 40 balls
URL:https://chancellor.education/event/golf-driving-range/2026-08-10/
LOCATION:2 Bilinga Rd\, Kincumber NSW 2251\, 2 Bilinga Rd\,\, Kincumber\, NSW\, 2251\, Australia
CATEGORIES:sports
ATTACH;FMTTYPE=image/jpeg:https://chancellor.education/wp-content/uploads/2022/12/courtney-cook-SsIIw_MET0E-unsplash.jpg
END:VEVENT
BEGIN:VEVENT
DTSTART;TZID=Australia/Sydney:20260824T093000
DTEND;TZID=Australia/Sydney:20260824T113000
DTSTAMP:20260422T190138
CREATED:20221213T014820Z
LAST-MODIFIED:20250204T033558Z
UID:10002451-1787563800-1787571000@chancellor.education
SUMMARY:Golf Driving Range
DESCRIPTION:Join staff and students each fortnight at Kincumber Driving Range.\n\nPriced from just $10 per 40 balls
URL:https://chancellor.education/event/golf-driving-range/2026-08-24/
LOCATION:2 Bilinga Rd\, Kincumber NSW 2251\, 2 Bilinga Rd\,\, Kincumber\, NSW\, 2251\, Australia
CATEGORIES:sports
ATTACH;FMTTYPE=image/jpeg:https://chancellor.education/wp-content/uploads/2022/12/courtney-cook-SsIIw_MET0E-unsplash.jpg
END:VEVENT
BEGIN:VEVENT
DTSTART;TZID=Australia/Sydney:20260907T093000
DTEND;TZID=Australia/Sydney:20260907T113000
DTSTAMP:20260422T190138
CREATED:20221213T014820Z
LAST-MODIFIED:20250204T033558Z
UID:10002452-1788773400-1788780600@chancellor.education
SUMMARY:Golf Driving Range
DESCRIPTION:Join staff and students each fortnight at Kincumber Driving Range.\n\nPriced from just $10 per 40 balls
URL:https://chancellor.education/event/golf-driving-range/2026-09-07/
LOCATION:2 Bilinga Rd\, Kincumber NSW 2251\, 2 Bilinga Rd\,\, Kincumber\, NSW\, 2251\, Australia
CATEGORIES:sports
ATTACH;FMTTYPE=image/jpeg:https://chancellor.education/wp-content/uploads/2022/12/courtney-cook-SsIIw_MET0E-unsplash.jpg
END:VEVENT
BEGIN:VEVENT
DTSTART;TZID=Australia/Sydney:20260921T093000
DTEND;TZID=Australia/Sydney:20260921T113000
DTSTAMP:20260422T190138
CREATED:20221213T014820Z
LAST-MODIFIED:20250204T033558Z
UID:10002453-1789983000-1789990200@chancellor.education
SUMMARY:Golf Driving Range
DESCRIPTION:Join staff and students each fortnight at Kincumber Driving Range.\n\nPriced from just $10 per 40 balls
URL:https://chancellor.education/event/golf-driving-range/2026-09-21/
LOCATION:2 Bilinga Rd\, Kincumber NSW 2251\, 2 Bilinga Rd\,\, Kincumber\, NSW\, 2251\, Australia
CATEGORIES:sports
ATTACH;FMTTYPE=image/jpeg:https://chancellor.education/wp-content/uploads/2022/12/courtney-cook-SsIIw_MET0E-unsplash.jpg
END:VEVENT
BEGIN:VEVENT
DTSTART;TZID=Australia/Sydney:20261005T093000
DTEND;TZID=Australia/Sydney:20261005T113000
DTSTAMP:20260422T190138
CREATED:20221213T014820Z
LAST-MODIFIED:20250204T033558Z
UID:10002454-1791192600-1791199800@chancellor.education
SUMMARY:Golf Driving Range
DESCRIPTION:Join staff and students each fortnight at Kincumber Driving Range.\n\nPriced from just $10 per 40 balls
URL:https://chancellor.education/event/golf-driving-range/2026-10-05/
LOCATION:2 Bilinga Rd\, Kincumber NSW 2251\, 2 Bilinga Rd\,\, Kincumber\, NSW\, 2251\, Australia
CATEGORIES:sports
ATTACH;FMTTYPE=image/jpeg:https://chancellor.education/wp-content/uploads/2022/12/courtney-cook-SsIIw_MET0E-unsplash.jpg
END:VEVENT
BEGIN:VEVENT
DTSTART;TZID=Australia/Sydney:20261019T093000
DTEND;TZID=Australia/Sydney:20261019T113000
DTSTAMP:20260422T190138
CREATED:20221213T014820Z
LAST-MODIFIED:20250204T033558Z
UID:10002455-1792402200-1792409400@chancellor.education
SUMMARY:Golf Driving Range
DESCRIPTION:Join staff and students each fortnight at Kincumber Driving Range.\n\nPriced from just $10 per 40 balls
URL:https://chancellor.education/event/golf-driving-range/2026-10-19/
LOCATION:2 Bilinga Rd\, Kincumber NSW 2251\, 2 Bilinga Rd\,\, Kincumber\, NSW\, 2251\, Australia
CATEGORIES:sports
ATTACH;FMTTYPE=image/jpeg:https://chancellor.education/wp-content/uploads/2022/12/courtney-cook-SsIIw_MET0E-unsplash.jpg
END:VEVENT
BEGIN:VEVENT
DTSTART;TZID=Australia/Sydney:20261102T093000
DTEND;TZID=Australia/Sydney:20261102T113000
DTSTAMP:20260422T190138
CREATED:20221213T014820Z
LAST-MODIFIED:20250204T033558Z
UID:10002456-1793611800-1793619000@chancellor.education
SUMMARY:Golf Driving Range
DESCRIPTION:Join staff and students each fortnight at Kincumber Driving Range.\n\nPriced from just $10 per 40 balls
URL:https://chancellor.education/event/golf-driving-range/2026-11-02/
LOCATION:2 Bilinga Rd\, Kincumber NSW 2251\, 2 Bilinga Rd\,\, Kincumber\, NSW\, 2251\, Australia
CATEGORIES:sports
ATTACH;FMTTYPE=image/jpeg:https://chancellor.education/wp-content/uploads/2022/12/courtney-cook-SsIIw_MET0E-unsplash.jpg
END:VEVENT
BEGIN:VEVENT
DTSTART;TZID=Australia/Sydney:20261116T093000
DTEND;TZID=Australia/Sydney:20261116T113000
DTSTAMP:20260422T190138
CREATED:20221213T014820Z
LAST-MODIFIED:20250204T033558Z
UID:10002457-1794821400-1794828600@chancellor.education
SUMMARY:Golf Driving Range
DESCRIPTION:Join staff and students each fortnight at Kincumber Driving Range.\n\nPriced from just $10 per 40 balls
URL:https://chancellor.education/event/golf-driving-range/2026-11-16/
LOCATION:2 Bilinga Rd\, Kincumber NSW 2251\, 2 Bilinga Rd\,\, Kincumber\, NSW\, 2251\, Australia
CATEGORIES:sports
ATTACH;FMTTYPE=image/jpeg:https://chancellor.education/wp-content/uploads/2022/12/courtney-cook-SsIIw_MET0E-unsplash.jpg
END:VEVENT
BEGIN:VEVENT
DTSTART;TZID=Australia/Sydney:20261130T093000
DTEND;TZID=Australia/Sydney:20261130T113000
DTSTAMP:20260422T190138
CREATED:20221213T014820Z
LAST-MODIFIED:20250204T033558Z
UID:10002458-1796031000-1796038200@chancellor.education
SUMMARY:Golf Driving Range
DESCRIPTION:Join staff and students each fortnight at Kincumber Driving Range.\n\nPriced from just $10 per 40 balls
URL:https://chancellor.education/event/golf-driving-range/2026-11-30/
LOCATION:2 Bilinga Rd\, Kincumber NSW 2251\, 2 Bilinga Rd\,\, Kincumber\, NSW\, 2251\, Australia
CATEGORIES:sports
ATTACH;FMTTYPE=image/jpeg:https://chancellor.education/wp-content/uploads/2022/12/courtney-cook-SsIIw_MET0E-unsplash.jpg
END:VEVENT
BEGIN:VEVENT
DTSTART;TZID=Australia/Sydney:20261214T093000
DTEND;TZID=Australia/Sydney:20261214T113000
DTSTAMP:20260422T190138
CREATED:20221213T014820Z
LAST-MODIFIED:20250204T033558Z
UID:10002459-1797240600-1797247800@chancellor.education
SUMMARY:Golf Driving Range
DESCRIPTION:Join staff and students each fortnight at Kincumber Driving Range.\n\nPriced from just $10 per 40 balls
URL:https://chancellor.education/event/golf-driving-range/2026-12-14/
LOCATION:2 Bilinga Rd\, Kincumber NSW 2251\, 2 Bilinga Rd\,\, Kincumber\, NSW\, 2251\, Australia
CATEGORIES:sports
ATTACH;FMTTYPE=image/jpeg:https://chancellor.education/wp-content/uploads/2022/12/courtney-cook-SsIIw_MET0E-unsplash.jpg
END:VEVENT
BEGIN:VEVENT
DTSTART;TZID=Australia/Sydney:20261228T093000
DTEND;TZID=Australia/Sydney:20261228T113000
DTSTAMP:20260422T190138
CREATED:20221213T014820Z
LAST-MODIFIED:20250204T033558Z
UID:10002460-1798450200-1798457400@chancellor.education
SUMMARY:Golf Driving Range
DESCRIPTION:Join staff and students each fortnight at Kincumber Driving Range.\n\nPriced from just $10 per 40 balls
URL:https://chancellor.education/event/golf-driving-range/2026-12-28/
LOCATION:2 Bilinga Rd\, Kincumber NSW 2251\, 2 Bilinga Rd\,\, Kincumber\, NSW\, 2251\, Australia
CATEGORIES:sports
ATTACH;FMTTYPE=image/jpeg:https://chancellor.education/wp-content/uploads/2022/12/courtney-cook-SsIIw_MET0E-unsplash.jpg
END:VEVENT
BEGIN:VEVENT
DTSTART;TZID=Australia/Sydney:20270111T093000
DTEND;TZID=Australia/Sydney:20270111T113000
DTSTAMP:20260422T190138
CREATED:20221213T014820Z
LAST-MODIFIED:20250204T033558Z
UID:10002461-1799659800-1799667000@chancellor.education
SUMMARY:Golf Driving Range
DESCRIPTION:Join staff and students each fortnight at Kincumber Driving Range.\n\nPriced from just $10 per 40 balls
URL:https://chancellor.education/event/golf-driving-range/2027-01-11/
LOCATION:2 Bilinga Rd\, Kincumber NSW 2251\, 2 Bilinga Rd\,\, Kincumber\, NSW\, 2251\, Australia
CATEGORIES:sports
ATTACH;FMTTYPE=image/jpeg:https://chancellor.education/wp-content/uploads/2022/12/courtney-cook-SsIIw_MET0E-unsplash.jpg
END:VEVENT
BEGIN:VEVENT
DTSTART;TZID=Australia/Sydney:20270125T093000
DTEND;TZID=Australia/Sydney:20270125T113000
DTSTAMP:20260422T190138
CREATED:20221213T014820Z
LAST-MODIFIED:20250204T033558Z
UID:10002462-1800869400-1800876600@chancellor.education
SUMMARY:Golf Driving Range
DESCRIPTION:Join staff and students each fortnight at Kincumber Driving Range.\n\nPriced from just $10 per 40 balls
URL:https://chancellor.education/event/golf-driving-range/2027-01-25/
LOCATION:2 Bilinga Rd\, Kincumber NSW 2251\, 2 Bilinga Rd\,\, Kincumber\, NSW\, 2251\, Australia
CATEGORIES:sports
ATTACH;FMTTYPE=image/jpeg:https://chancellor.education/wp-content/uploads/2022/12/courtney-cook-SsIIw_MET0E-unsplash.jpg
END:VEVENT
BEGIN:VEVENT
DTSTART;TZID=Australia/Sydney:20270208T093000
DTEND;TZID=Australia/Sydney:20270208T113000
DTSTAMP:20260422T190138
CREATED:20221213T014820Z
LAST-MODIFIED:20250204T033558Z
UID:10002463-1802079000-1802086200@chancellor.education
SUMMARY:Golf Driving Range
DESCRIPTION:Join staff and students each fortnight at Kincumber Driving Range.\n\nPriced from just $10 per 40 balls
URL:https://chancellor.education/event/golf-driving-range/2027-02-08/
LOCATION:2 Bilinga Rd\, Kincumber NSW 2251\, 2 Bilinga Rd\,\, Kincumber\, NSW\, 2251\, Australia
CATEGORIES:sports
ATTACH;FMTTYPE=image/jpeg:https://chancellor.education/wp-content/uploads/2022/12/courtney-cook-SsIIw_MET0E-unsplash.jpg
END:VEVENT
BEGIN:VEVENT
DTSTART;TZID=Australia/Sydney:20270222T093000
DTEND;TZID=Australia/Sydney:20270222T113000
DTSTAMP:20260422T190138
CREATED:20221213T014820Z
LAST-MODIFIED:20250204T033558Z
UID:10002464-1803288600-1803295800@chancellor.education
SUMMARY:Golf Driving Range
DESCRIPTION:Join staff and students each fortnight at Kincumber Driving Range.\n\nPriced from just $10 per 40 balls
URL:https://chancellor.education/event/golf-driving-range/2027-02-22/
LOCATION:2 Bilinga Rd\, Kincumber NSW 2251\, 2 Bilinga Rd\,\, Kincumber\, NSW\, 2251\, Australia
CATEGORIES:sports
ATTACH;FMTTYPE=image/jpeg:https://chancellor.education/wp-content/uploads/2022/12/courtney-cook-SsIIw_MET0E-unsplash.jpg
END:VEVENT
BEGIN:VEVENT
DTSTART;TZID=Australia/Sydney:20270308T093000
DTEND;TZID=Australia/Sydney:20270308T113000
DTSTAMP:20260422T190138
CREATED:20221213T014820Z
LAST-MODIFIED:20250204T033558Z
UID:10002465-1804498200-1804505400@chancellor.education
SUMMARY:Golf Driving Range
DESCRIPTION:Join staff and students each fortnight at Kincumber Driving Range.\n\nPriced from just $10 per 40 balls
URL:https://chancellor.education/event/golf-driving-range/2027-03-08/
LOCATION:2 Bilinga Rd\, Kincumber NSW 2251\, 2 Bilinga Rd\,\, Kincumber\, NSW\, 2251\, Australia
CATEGORIES:sports
ATTACH;FMTTYPE=image/jpeg:https://chancellor.education/wp-content/uploads/2022/12/courtney-cook-SsIIw_MET0E-unsplash.jpg
END:VEVENT
BEGIN:VEVENT
DTSTART;TZID=Australia/Sydney:20270322T093000
DTEND;TZID=Australia/Sydney:20270322T113000
DTSTAMP:20260422T190138
CREATED:20221213T014820Z
LAST-MODIFIED:20250204T033558Z
UID:10002466-1805707800-1805715000@chancellor.education
SUMMARY:Golf Driving Range
DESCRIPTION:Join staff and students each fortnight at Kincumber Driving Range.\n\nPriced from just $10 per 40 balls
URL:https://chancellor.education/event/golf-driving-range/2027-03-22/
LOCATION:2 Bilinga Rd\, Kincumber NSW 2251\, 2 Bilinga Rd\,\, Kincumber\, NSW\, 2251\, Australia
CATEGORIES:sports
ATTACH;FMTTYPE=image/jpeg:https://chancellor.education/wp-content/uploads/2022/12/courtney-cook-SsIIw_MET0E-unsplash.jpg
END:VEVENT
BEGIN:VEVENT
DTSTART;TZID=Australia/Sydney:20270405T093000
DTEND;TZID=Australia/Sydney:20270405T113000
DTSTAMP:20260422T190138
CREATED:20221213T014820Z
LAST-MODIFIED:20250204T033558Z
UID:10002467-1806917400-1806924600@chancellor.education
SUMMARY:Golf Driving Range
DESCRIPTION:Join staff and students each fortnight at Kincumber Driving Range.\n\nPriced from just $10 per 40 balls
URL:https://chancellor.education/event/golf-driving-range/2027-04-05/
LOCATION:2 Bilinga Rd\, Kincumber NSW 2251\, 2 Bilinga Rd\,\, Kincumber\, NSW\, 2251\, Australia
CATEGORIES:sports
ATTACH;FMTTYPE=image/jpeg:https://chancellor.education/wp-content/uploads/2022/12/courtney-cook-SsIIw_MET0E-unsplash.jpg
END:VEVENT
BEGIN:VEVENT
DTSTART;TZID=Australia/Sydney:20270419T093000
DTEND;TZID=Australia/Sydney:20270419T113000
DTSTAMP:20260422T190138
CREATED:20221213T014820Z
LAST-MODIFIED:20250204T033558Z
UID:10002468-1808127000-1808134200@chancellor.education
SUMMARY:Golf Driving Range
DESCRIPTION:Join staff and students each fortnight at Kincumber Driving Range.\n\nPriced from just $10 per 40 balls
URL:https://chancellor.education/event/golf-driving-range/2027-04-19/
LOCATION:2 Bilinga Rd\, Kincumber NSW 2251\, 2 Bilinga Rd\,\, Kincumber\, NSW\, 2251\, Australia
CATEGORIES:sports
ATTACH;FMTTYPE=image/jpeg:https://chancellor.education/wp-content/uploads/2022/12/courtney-cook-SsIIw_MET0E-unsplash.jpg
END:VEVENT
BEGIN:VEVENT
DTSTART;TZID=Australia/Sydney:20270503T093000
DTEND;TZID=Australia/Sydney:20270503T113000
DTSTAMP:20260422T190138
CREATED:20221213T014820Z
LAST-MODIFIED:20250204T033558Z
UID:10002469-1809336600-1809343800@chancellor.education
SUMMARY:Golf Driving Range
DESCRIPTION:Join staff and students each fortnight at Kincumber Driving Range.\n\nPriced from just $10 per 40 balls
URL:https://chancellor.education/event/golf-driving-range/2027-05-03/
LOCATION:2 Bilinga Rd\, Kincumber NSW 2251\, 2 Bilinga Rd\,\, Kincumber\, NSW\, 2251\, Australia
CATEGORIES:sports
ATTACH;FMTTYPE=image/jpeg:https://chancellor.education/wp-content/uploads/2022/12/courtney-cook-SsIIw_MET0E-unsplash.jpg
END:VEVENT
BEGIN:VEVENT
DTSTART;TZID=Australia/Sydney:20270517T093000
DTEND;TZID=Australia/Sydney:20270517T113000
DTSTAMP:20260422T190138
CREATED:20221213T014820Z
LAST-MODIFIED:20250204T033558Z
UID:10002470-1810546200-1810553400@chancellor.education
SUMMARY:Golf Driving Range
DESCRIPTION:Join staff and students each fortnight at Kincumber Driving Range.\n\nPriced from just $10 per 40 balls
URL:https://chancellor.education/event/golf-driving-range/2027-05-17/
LOCATION:2 Bilinga Rd\, Kincumber NSW 2251\, 2 Bilinga Rd\,\, Kincumber\, NSW\, 2251\, Australia
CATEGORIES:sports
ATTACH;FMTTYPE=image/jpeg:https://chancellor.education/wp-content/uploads/2022/12/courtney-cook-SsIIw_MET0E-unsplash.jpg
END:VEVENT
BEGIN:VEVENT
DTSTART;TZID=Australia/Sydney:20270531T093000
DTEND;TZID=Australia/Sydney:20270531T113000
DTSTAMP:20260422T190138
CREATED:20221213T014820Z
LAST-MODIFIED:20250204T033558Z
UID:10002471-1811755800-1811763000@chancellor.education
SUMMARY:Golf Driving Range
DESCRIPTION:Join staff and students each fortnight at Kincumber Driving Range.\n\nPriced from just $10 per 40 balls
URL:https://chancellor.education/event/golf-driving-range/2027-05-31/
LOCATION:2 Bilinga Rd\, Kincumber NSW 2251\, 2 Bilinga Rd\,\, Kincumber\, NSW\, 2251\, Australia
CATEGORIES:sports
ATTACH;FMTTYPE=image/jpeg:https://chancellor.education/wp-content/uploads/2022/12/courtney-cook-SsIIw_MET0E-unsplash.jpg
END:VEVENT
BEGIN:VEVENT
DTSTART;TZID=Australia/Sydney:20270614T093000
DTEND;TZID=Australia/Sydney:20270614T113000
DTSTAMP:20260422T190138
CREATED:20221213T014820Z
LAST-MODIFIED:20250204T033558Z
UID:10002472-1812965400-1812972600@chancellor.education
SUMMARY:Golf Driving Range
DESCRIPTION:Join staff and students each fortnight at Kincumber Driving Range.\n\nPriced from just $10 per 40 balls
URL:https://chancellor.education/event/golf-driving-range/2027-06-14/
LOCATION:2 Bilinga Rd\, Kincumber NSW 2251\, 2 Bilinga Rd\,\, Kincumber\, NSW\, 2251\, Australia
CATEGORIES:sports
ATTACH;FMTTYPE=image/jpeg:https://chancellor.education/wp-content/uploads/2022/12/courtney-cook-SsIIw_MET0E-unsplash.jpg
END:VEVENT
END:VCALENDAR